BEGIN:VCALENDAR
VERSION:2.0
METHOD:PUBLISH
PRODID:-//Causal Sarl//LionsBase Calendar 5.0.x-dev//DE
TZID:Europe/Zurich
BEGIN:VEVENT
UID:33700_20260912@wienerwald.lions.at
DTSTAMP:20260425T102611Z
DTSTART:20260912T080000Z
DTEND:20260912T120000Z
ORGANIZER:LC Baden St. Helena öffentlich
LOCATION:Theater am Steg\, Johannesgasse 14\, 2500 Baden
SUMMARY:4. Fashionday im Theater am Steg
DESCRIPTION:Charity\, Fashion and more \n\nDer Lionsclub Bad
 en St.Helena lädt ein zu einem besonderen Fashionmarkt mit a
 usgewählter Damenbekleidung\, Modeschmuck\, Handtaschen\, Hü
 ten\, stilvolle Wohnaccessoirs\, Modeschau\, Musik\, Buffet.
  \n\nNach den großen Erfolgen unseres Modebasars in den verg
 angenen Jahren und der Nachfrage nach einem weiteren\, haben
  sich die Lionsdamen und ihre Freundinnen daran gemacht\, ih
 re Kleiderkästen zu öffnen und nach besonders schönen Stücke
 n zu suchen\, die sie der guten Sache spenden wollen. Nebenb
 ei entspricht diese Aktion – Second Hand -  auch unserem Mot
 to der Nachhaltigkeit.!\nUnsere Spenden kommen ausschließlic
 h bedürftigen Familien und Personen in unserer Region zugute
 \, da besonders auch der Schulanfang viele Familien zusätzli
 ch belastet.
END:VEVENT
END:VCALENDAR
